BEGIN:VCALENDAR
VERSION:2.0
PRODID:-//Tuolumne County Volunteer Fair - ECPv6.15.20//NONSGML v1.0//EN
CALSCALE:GREGORIAN
METHOD:PUBLISH
X-WR-CALNAME:Tuolumne County Volunteer Fair
X-ORIGINAL-URL:https://tcvfair.org
X-WR-CALDESC:Events for Tuolumne County Volunteer Fair
REFRESH-INTERVAL;VALUE=DURATION:PT1H
X-Robots-Tag:noindex
X-PUBLISHED-TTL:PT1H
BEGIN:VTIMEZONE
TZID:America/Los_Angeles
BEGIN:DAYLIGHT
TZOFFSETFROM:-0800
TZOFFSETTO:-0700
TZNAME:PDT
DTSTART:20240310T100000
END:DAYLIGHT
BEGIN:STANDARD
TZOFFSETFROM:-0700
TZOFFSETTO:-0800
TZNAME:PST
DTSTART:20241103T090000
END:STANDARD
BEGIN:DAYLIGHT
TZOFFSETFROM:-0800
TZOFFSETTO:-0700
TZNAME:PDT
DTSTART:20250309T100000
END:DAYLIGHT
BEGIN:STANDARD
TZOFFSETFROM:-0700
TZOFFSETTO:-0800
TZNAME:PST
DTSTART:20251102T090000
END:STANDARD
BEGIN:DAYLIGHT
TZOFFSETFROM:-0800
TZOFFSETTO:-0700
TZNAME:PDT
DTSTART:20260308T100000
END:DAYLIGHT
BEGIN:STANDARD
TZOFFSETFROM:-0700
TZOFFSETTO:-0800
TZNAME:PST
DTSTART:20261101T090000
END:STANDARD
END:VTIMEZONE
BEGIN:VEVENT
DTSTART;TZID=America/Los_Angeles:20250912T173000
DTEND;TZID=America/Los_Angeles:20250912T193000
DTSTAMP:20260424T205945
CREATED:20250905T003045Z
LAST-MODIFIED:20250905T003045Z
UID:10000149-1757698200-1757705400@tcvfair.org
SUMMARY:WHOW Ladies Night Out - Mix N Mingle
DESCRIPTION:We’re back! We have not done a Ladies Night Out event in a long time. \nWe have missed them!! \nLadies Night Out is open to all women\, you do not have to be a WHOW member to join us! This is a fun evening to mix and mingle with other women in our community. Whether you are a business owner\, employee\, stay at home mom\, single mom\, retired\, young or old… you are welcome here! \nHolly Britton has graciously offered to allow us to meet at her home. We are limited to 40 ladies so please RSVP using our link: https://www.zeffy.com/ticketing/whow-ladies-night-out \nThere is NO cost to attend! You are welcome to bring a snack to share\, but it is not required to attend.
URL:https://tcvfair.org/event/whow-ladies-night-out-mix-n-mingle/
ATTACH;FMTTYPE=image/png:https://tcvfair.org/wp-content/uploads/2025/08/WHOW-Logo-Transparent.png
ORGANIZER;CN="WHOW":MAILTO:whowlivelovelearn@gmail.com
END:VEVENT
BEGIN:VEVENT
DTSTART;TZID=America/Los_Angeles:20250924T150000
DTEND;TZID=America/Los_Angeles:20250924T180000
DTSTAMP:20260424T205945
CREATED:20250623T153649Z
LAST-MODIFIED:20250623T155233Z
UID:10000148-1758726000-1758736800@tcvfair.org
SUMMARY:Community Roots Resource Fair
DESCRIPTION:Join local agencies and businesses as they come together to support residents through uncertain times at the Community Roots Resource Fair.  The Fair will be held at the Motherlode Fairgrounds on Wednesday\, September 24\, 2025 from 3pm-6pm. This free event will include demonstrations and information on local resources.  \n“The Community Roots Resource Fair helps bring essential services directly to our residents\,” said Annie Hockett\, Director of the Tuolumne County Health and Human Services Agency. “By connecting people with resources and information\, we help individuals thrive—and strengthen our community.  \nThe fair offers a safe and supportive environment for those who may be navigating services for the first time.  
URL:https://tcvfair.org/event/community-roots-resource-fair/
LOCATION:Mother Lode Fairgrounds\, 220 Southgate Dr.\, Sonora\, CA\, 95370\, United States
CATEGORIES:Events
ATTACH;FMTTYPE=image/jpeg:https://tcvfair.org/wp-content/uploads/2025/06/Community-Roots-Logo.jpg
GEO:37.9766671;-120.3902504
X-APPLE-STRUCTURED-LOCATION;VALUE=URI;X-ADDRESS=Mother Lode Fairgrounds 220 Southgate Dr. Sonora CA 95370 United States;X-APPLE-RADIUS=500;X-TITLE=220 Southgate Dr.:geo:-120.3902504,37.9766671
END:VEVENT
END:VCALENDAR