BEGIN:VCALENDAR
VERSION:2.0
PRODID:-//Tuolumne County Volunteer Fair - ECPv6.15.20//NONSGML v1.0//EN
CALSCALE:GREGORIAN
METHOD:PUBLISH
X-ORIGINAL-URL:https://tcvfair.org
X-WR-CALDESC:Events for Tuolumne County Volunteer Fair
REFRESH-INTERVAL;VALUE=DURATION:PT1H
X-Robots-Tag:noindex
X-PUBLISHED-TTL:PT1H
BEGIN:VTIMEZONE
TZID:America/Los_Angeles
BEGIN:DAYLIGHT
TZOFFSETFROM:-0800
TZOFFSETTO:-0700
TZNAME:PDT
DTSTART:20240310T100000
END:DAYLIGHT
BEGIN:STANDARD
TZOFFSETFROM:-0700
TZOFFSETTO:-0800
TZNAME:PST
DTSTART:20241103T090000
END:STANDARD
BEGIN:DAYLIGHT
TZOFFSETFROM:-0800
TZOFFSETTO:-0700
TZNAME:PDT
DTSTART:20250309T100000
END:DAYLIGHT
BEGIN:STANDARD
TZOFFSETFROM:-0700
TZOFFSETTO:-0800
TZNAME:PST
DTSTART:20251102T090000
END:STANDARD
BEGIN:DAYLIGHT
TZOFFSETFROM:-0800
TZOFFSETTO:-0700
TZNAME:PDT
DTSTART:20260308T100000
END:DAYLIGHT
BEGIN:STANDARD
TZOFFSETFROM:-0700
TZOFFSETTO:-0800
TZNAME:PST
DTSTART:20261101T090000
END:STANDARD
END:VTIMEZONE
BEGIN:VEVENT
DTSTART;TZID=America/Los_Angeles:20251001T090000
DTEND;TZID=America/Los_Angeles:20251001T120000
DTSTAMP:20260424T182932
CREATED:20250904T185130Z
LAST-MODIFIED:20250904T185130Z
UID:10000154-1759309200-1759320000@tcvfair.org
SUMMARY:Coffee with a Cop
DESCRIPTION:Aronos Research Club is hosting Coffee With A Cop! \nBoth Sonora Police Department and Tuolumne County Sheriff Deputies will be joining us. \nThis is a drop in event\, come any time between 9am and noon.
URL:https://tcvfair.org/event/coffee-with-a-cop/
LOCATION:Aronos Research Club\, Elkin Street\, Sonora\, California\, 95370\, United States
CATEGORIES:Community,Events
ATTACH;FMTTYPE=image/jpeg:https://tcvfair.org/wp-content/uploads/2025/09/Aronos-Coffe-with-a-Cop.jpg
GEO:37.9872027;-120.3839692
X-APPLE-STRUCTURED-LOCATION;VALUE=URI;X-ADDRESS=Aronos Research Club Elkin Street Sonora California 95370 United States;X-APPLE-RADIUS=500;X-TITLE=Elkin Street:geo:-120.3839692,37.9872027
END:VEVENT
BEGIN:VEVENT
DTSTART;TZID=America/Los_Angeles:20251005T150000
DTEND;TZID=America/Los_Angeles:20251005T170000
DTSTAMP:20260424T182932
CREATED:20250904T211916Z
LAST-MODIFIED:20250904T211924Z
UID:10000153-1759676400-1759683600@tcvfair.org
SUMMARY:Trivia Afternoon
DESCRIPTION:Enjoy a fun afternoon of Trivia while supporting Tuolumne Spay & Neuter. A nohost bar and snacks will be available. \nThere will be prizes for 1st\, 2nd\, and 3rd place.  \nLast but not least\, we’ll also have a silent auction.  \nSeating is limited\, please get your tickets early!
URL:https://tcvfair.org/event/trivia-afternoon/
LOCATION:Willow Springs Clubhouse\, 20522 Willow Springs Dr.\, Soulsbyville\, CA\, 95372\, United States
CATEGORIES:Animals,Events,Fundraiser
ATTACH;FMTTYPE=image/jpeg:https://tcvfair.org/wp-content/uploads/2025/09/TriviaMatinee.jpg
ORGANIZER;CN="Tuolumne Spay & Neuter":MAILTO:tspayneuter@gmail.com
END:VEVENT
BEGIN:VEVENT
DTSTART;TZID=America/Los_Angeles:20251012T140000
DTEND;TZID=America/Los_Angeles:20251012T170000
DTSTAMP:20260424T182932
CREATED:20250904T212605Z
LAST-MODIFIED:20250904T212605Z
UID:10000152-1760277600-1760288400@tcvfair.org
SUMMARY:WHOW Cooking Class
DESCRIPTION:We are excited to let you know one of our Sponsors – Pin-it Travel Twins – has put together a cookig class for us and we hope you will join us! \nCooking of Oaxaca Mexico is the dream of any chef!  The place\, the scenery\, the people and the food make the experience of cooking and tasting the local foods a celebration for the taste buds.  Seafood\, Braised Pork with a Garlic Tomato mole\, Tamales\, Salsa\, Enchiladas\, and a Special Dessert.  Ron Erickson usually serves wine during the class and provides recipes.  Parking is limited so carpool if you can.
URL:https://tcvfair.org/event/whow-cooking-class/
CATEGORIES:Community
ORGANIZER;CN="WHOW":MAILTO:whowlivelovelearn@gmail.com
END:VEVENT
BEGIN:VEVENT
DTSTART;TZID=America/Los_Angeles:20251017T173000
DTEND;TZID=America/Los_Angeles:20251017T193000
DTSTAMP:20260424T182932
CREATED:20250904T212328Z
LAST-MODIFIED:20250904T212328Z
UID:10000151-1760722200-1760729400@tcvfair.org
SUMMARY:WHOW Bingo Ladies Night Out
DESCRIPTION:Our Bingo nights are always so much fun!  Please join us\, bring a friend (or 2)!  Cost to attend is $20 which includes 1 bingo card for each game we have time to play.  You may purchase additional bingo cards for $2 each or 3 for $5 (at the event\, cash only)  All proceeds from this event will go toward our education grant awarded sometime in November for a local woman.  We will have prizes for our winners.  As always your support helps us with our mission to educate\, inspire and support women to achieve their dreams and goals.
URL:https://tcvfair.org/event/whow-bingo-ladies-night-out/
LOCATION:Aronos Research Club\, Elkin Street\, Sonora\, California\, 95370\, United States
CATEGORIES:Events,Fundraiser
ATTACH;FMTTYPE=image/png:https://tcvfair.org/wp-content/uploads/2025/08/FB-Event-Banner.png
ORGANIZER;CN="WHOW":MAILTO:whowlivelovelearn@gmail.com
GEO:37.9872027;-120.3839692
X-APPLE-STRUCTURED-LOCATION;VALUE=URI;X-ADDRESS=Aronos Research Club Elkin Street Sonora California 95370 United States;X-APPLE-RADIUS=500;X-TITLE=Elkin Street:geo:-120.3839692,37.9872027
END:VEVENT
END:VCALENDAR