BEGIN:VCALENDAR
VERSION:2.0
PRODID:-//Tuolumne County Volunteer Fair - ECPv6.15.20//NONSGML v1.0//EN
CALSCALE:GREGORIAN
METHOD:PUBLISH
X-ORIGINAL-URL:https://tcvfair.org
X-WR-CALDESC:Events for Tuolumne County Volunteer Fair
REFRESH-INTERVAL;VALUE=DURATION:PT1H
X-Robots-Tag:noindex
X-PUBLISHED-TTL:PT1H
BEGIN:VTIMEZONE
TZID:America/Los_Angeles
BEGIN:DAYLIGHT
TZOFFSETFROM:-0800
TZOFFSETTO:-0700
TZNAME:PDT
DTSTART:20250309T100000
END:DAYLIGHT
BEGIN:STANDARD
TZOFFSETFROM:-0700
TZOFFSETTO:-0800
TZNAME:PST
DTSTART:20251102T090000
END:STANDARD
BEGIN:DAYLIGHT
TZOFFSETFROM:-0800
TZOFFSETTO:-0700
TZNAME:PDT
DTSTART:20260308T100000
END:DAYLIGHT
BEGIN:STANDARD
TZOFFSETFROM:-0700
TZOFFSETTO:-0800
TZNAME:PST
DTSTART:20261101T090000
END:STANDARD
BEGIN:DAYLIGHT
TZOFFSETFROM:-0800
TZOFFSETTO:-0700
TZNAME:PDT
DTSTART:20270314T100000
END:DAYLIGHT
BEGIN:STANDARD
TZOFFSETFROM:-0700
TZOFFSETTO:-0800
TZNAME:PST
DTSTART:20271107T090000
END:STANDARD
END:VTIMEZONE
BEGIN:VEVENT
DTSTART;TZID=America/Los_Angeles:20260424T150000
DTEND;TZID=America/Los_Angeles:20260424T180000
DTSTAMP:20260424T051841
CREATED:20260416T164937Z
LAST-MODIFIED:20260416T164937Z
UID:10000225-1777042800-1777053600@tcvfair.org
SUMMARY:2026 Honoring Mother Earth
DESCRIPTION:The fourth annual Honoring Mother Earth Celebration is back! Co-hosted by Chicken Ranch Rancheria & Tuolumne Band of Me-Wuk Indians\, the celebration brings the community together to share knowledge\, celebrate culture\, and highlight environmental stewardship throughout the region. The two-day event will feature a volunteer work day to continue our efforts of cleaning up and removing Yellow Flag Iris at Woods Creek Rotary Park\, followed by a celebration event featuring traditional dance\, drumming\, and storytelling. Join us for a weekend of sharing\, community\, and celebration of our planet and all its wonders!
URL:https://tcvfair.org/event/2026-honoring-mother-earth/2026-04-24/
LOCATION:Woods Creek Rotary Park\, 663 Woods Creek Drive\, Sonora\, 95370
CATEGORIES:Arts,Call for Volunteers,Community,Education,Environment
ATTACH;FMTTYPE=image/png:https://tcvfair.org/wp-content/uploads/2026/04/HMEC-2026-Flyer.png
ORGANIZER;CN="Chicken Ranch Rancheria of Me-Wuk Indians &amp%3B Tuolumne Band Me-Wuk Indians":MAILTO:envirodept@crtribal.com
GEO:37.9819637;-120.3904935
X-APPLE-STRUCTURED-LOCATION;VALUE=URI;X-ADDRESS=Woods Creek Rotary Park 663 Woods Creek Drive Sonora 95370;X-APPLE-RADIUS=500;X-TITLE=663 Woods Creek Drive:geo:-120.3904935,37.9819637
END:VEVENT
BEGIN:VEVENT
DTSTART;VALUE=DATE:20260425
DTEND;VALUE=DATE:20260426
DTSTAMP:20260424T051841
CREATED:20260313T184633Z
LAST-MODIFIED:20260313T184633Z
UID:10000173-1777075200-1777161599@tcvfair.org
SUMMARY:Volunteer Tree Planting
DESCRIPTION:We are looking for help replanting forests burned in the Rim wildfire. This fire burned over 250\,000 acres across Tuolumne and Mariposa counties in 2013\, devastating forest and meadow habitats in the area. Learn more about our work restoring the Rim Fire burn scar HERE. \nYou can help us restore forests on our public lands!  These workdays are fun and rewarding for the whole family. Please reach out to volunteer@yosemiterivers.org with any questions. CLICK HERE TO SIGN UP \nYosemite Rivers Alliance (formerly Tuolumne River Trust) has been working since 1981 to restore and protect watersheds in the region. Visit our website at yosemiterivers.org. \nThese workdays are made possible through generous contributions from our donors and the Arbor Day Foundation.
URL:https://tcvfair.org/event/volunteer-tree-planting/2026-04-25/
ORGANIZER;CN="Yosemite Rivers Alliance":MAILTO:holly.heath@yosemiterivers.org
END:VEVENT
BEGIN:VEVENT
DTSTART;TZID=America/Los_Angeles:20260425T110000
DTEND;TZID=America/Los_Angeles:20260425T160000
DTSTAMP:20260424T051841
CREATED:20260416T164937Z
LAST-MODIFIED:20260416T164937Z
UID:10000226-1777114800-1777132800@tcvfair.org
SUMMARY:2026 Honoring Mother Earth
DESCRIPTION:The fourth annual Honoring Mother Earth Celebration is back! Co-hosted by Chicken Ranch Rancheria & Tuolumne Band of Me-Wuk Indians\, the celebration brings the community together to share knowledge\, celebrate culture\, and highlight environmental stewardship throughout the region. The two-day event will feature a volunteer work day to continue our efforts of cleaning up and removing Yellow Flag Iris at Woods Creek Rotary Park\, followed by a celebration event featuring traditional dance\, drumming\, and storytelling. Join us for a weekend of sharing\, community\, and celebration of our planet and all its wonders!
URL:https://tcvfair.org/event/2026-honoring-mother-earth/2026-04-25/
LOCATION:Woods Creek Rotary Park\, 663 Woods Creek Drive\, Sonora\, 95370
CATEGORIES:Arts,Call for Volunteers,Community,Education,Environment
ATTACH;FMTTYPE=image/png:https://tcvfair.org/wp-content/uploads/2026/04/HMEC-2026-Flyer.png
ORGANIZER;CN="Chicken Ranch Rancheria of Me-Wuk Indians &amp%3B Tuolumne Band Me-Wuk Indians":MAILTO:envirodept@crtribal.com
GEO:37.9819637;-120.3904935
X-APPLE-STRUCTURED-LOCATION;VALUE=URI;X-ADDRESS=Woods Creek Rotary Park 663 Woods Creek Drive Sonora 95370;X-APPLE-RADIUS=500;X-TITLE=663 Woods Creek Drive:geo:-120.3904935,37.9819637
END:VEVENT
BEGIN:VEVENT
DTSTART;TZID=America/Los_Angeles:20260426T140000
DTEND;TZID=America/Los_Angeles:20260426T160000
DTSTAMP:20260424T051841
CREATED:20260406T225909Z
LAST-MODIFIED:20260406T225909Z
UID:10000224-1777212000-1777219200@tcvfair.org
SUMMARY:English Country Garden Tea
DESCRIPTION:Planting Seeds of Opportunity is the theme for the annual Aronos Research Club’s English Country Garden Tea\, held on Sunday\, April 26 from 2 p.m. at the Aronos Clubhouse located at 37 Elkin Street in downtown Sonora. \nTickets are $25 per person and can be ordered by mailing checks to Aronos Research Club\, 37 Elkin Street\, Sonora\, CA 95370. Please include a name\, phone number and the number of guests you are bringing. Joyce Drush\, Event Chair\, can also be called at 209-770-1294 for reservations or questions. \n“Join us for a fun and relaxing afternoon filled with savories\, scones\, treats\, favors\, door prizes\, and raffles\,” Drush said. “While dining and visiting with others\, you will enjoy the live ‘Yankee String Band’ playing English Country music and more!”
URL:https://tcvfair.org/event/english-country-garden-tea/
LOCATION:Aronos Research Club\, Elkin Street\, Sonora\, California\, 95370\, United States
CATEGORIES:Community
ATTACH;FMTTYPE=image/jpeg:https://tcvfair.org/wp-content/uploads/2026/04/unnamed.jpg
ORGANIZER;CN="Aronos":MAILTO:aronosresearchclub@yahoo.com
GEO:37.9872027;-120.3839692
X-APPLE-STRUCTURED-LOCATION;VALUE=URI;X-ADDRESS=Aronos Research Club Elkin Street Sonora California 95370 United States;X-APPLE-RADIUS=500;X-TITLE=Elkin Street:geo:-120.3839692,37.9872027
END:VEVENT
END:VCALENDAR