BEGIN:VCALENDAR
VERSION:2.0
PRODID:-//Tuolumne County Volunteer Fair - ECPv6.15.20//NONSGML v1.0//EN
CALSCALE:GREGORIAN
METHOD:PUBLISH
X-ORIGINAL-URL:https://tcvfair.org
X-WR-CALDESC:Events for Tuolumne County Volunteer Fair
REFRESH-INTERVAL;VALUE=DURATION:PT1H
X-Robots-Tag:noindex
X-PUBLISHED-TTL:PT1H
BEGIN:VTIMEZONE
TZID:America/Los_Angeles
BEGIN:DAYLIGHT
TZOFFSETFROM:-0800
TZOFFSETTO:-0700
TZNAME:PDT
DTSTART:20240310T100000
END:DAYLIGHT
BEGIN:STANDARD
TZOFFSETFROM:-0700
TZOFFSETTO:-0800
TZNAME:PST
DTSTART:20241103T090000
END:STANDARD
BEGIN:DAYLIGHT
TZOFFSETFROM:-0800
TZOFFSETTO:-0700
TZNAME:PDT
DTSTART:20250309T100000
END:DAYLIGHT
BEGIN:STANDARD
TZOFFSETFROM:-0700
TZOFFSETTO:-0800
TZNAME:PST
DTSTART:20251102T090000
END:STANDARD
BEGIN:DAYLIGHT
TZOFFSETFROM:-0800
TZOFFSETTO:-0700
TZNAME:PDT
DTSTART:20260308T100000
END:DAYLIGHT
BEGIN:STANDARD
TZOFFSETFROM:-0700
TZOFFSETTO:-0800
TZNAME:PST
DTSTART:20261101T090000
END:STANDARD
END:VTIMEZONE
BEGIN:VEVENT
DTSTART;TZID=America/Los_Angeles:20251105T090000
DTEND;TZID=America/Los_Angeles:20251105T153000
DTSTAMP:20260424T194931
CREATED:20251020T173553Z
LAST-MODIFIED:20251020T173745Z
UID:10000159-1762333200-1762356600@tcvfair.org
SUMMARY:Volunteer with Tuolumne River Trust! Help Pull Invasive Species
DESCRIPTION:We will travel up to Cottonwood Meadow (near Cherry Lake) where there is a big field of the highly invasive woolly mullein. We will spend the day pulling as much of it as we possibly can. This clears space for us to come back and reseed the meadow with native species. We would love to see you out there helping to restore this important ecosystem! If you would like to sign up\, please visit our website\, tuolumne.org.
URL:https://tcvfair.org/event/volunteer-with-tuolumne-river-trust-help-pull-invasive-species/
CATEGORIES:Call for Volunteers
ORGANIZER;CN="Tuolumne River Trust":MAILTO:volunteer@tuolumne.org
END:VEVENT
BEGIN:VEVENT
DTSTART;TZID=America/Los_Angeles:20251108T080000
DTEND;TZID=America/Los_Angeles:20251108T170000
DTSTAMP:20260424T194931
CREATED:20251020T173526Z
LAST-MODIFIED:20251020T173526Z
UID:10000156-1762588800-1762621200@tcvfair.org
SUMMARY:WHOW Hand Crafted Holiday Greetings
DESCRIPTION:Patti is a local artist who loves to paint and she will guide and inspire us to create holiday cards.  Join us as we let out our inner child and creativity.  You will receive 5 cards with envelopes and your own personal watercolor paint kit!  We have limited space for 20 ladies so please RSVP now and save the date!  \nPatti will also have some of her magnificient art work on display and for sale if you would like to purchase.  Our way of supporting local artists! \nCost to attend is $50 – Limited space of 20 \nhttps://www.zeffy.com/en-US/ticketing/hand-crafted-holiday-greetings-with-patti-cherry
URL:https://tcvfair.org/event/whow-hand-crafted-holiday-greetings/
LOCATION:Aronos Research Club\, Elkin Street\, Sonora\, California\, 95370\, United States
ATTACH;FMTTYPE=image/png:https://tcvfair.org/wp-content/uploads/2025/10/Social-Media-Post-Holiday-Craft-Event.png
ORGANIZER;CN="WHOW":MAILTO:whowlivelovelearn@gmail.com
GEO:37.9872027;-120.3839692
X-APPLE-STRUCTURED-LOCATION;VALUE=URI;X-ADDRESS=Aronos Research Club Elkin Street Sonora California 95370 United States;X-APPLE-RADIUS=500;X-TITLE=Elkin Street:geo:-120.3839692,37.9872027
END:VEVENT
END:VCALENDAR